BEGIN:VCALENDAR
VERSION:2.0
PRODID:-//City Institute of Higher Learning (C-IHL) - ECPv6.15.17//NONSGML v1.0//EN
CALSCALE:GREGORIAN
METHOD:PUBLISH
X-WR-CALNAME:City Institute of Higher Learning (C-IHL)
X-ORIGINAL-URL:https://city-ihl.ca
X-WR-CALDESC:Events for City Institute of Higher Learning (C-IHL)
REFRESH-INTERVAL;VALUE=DURATION:PT1H
X-Robots-Tag:noindex
X-PUBLISHED-TTL:PT1H
BEGIN:VTIMEZONE
TZID:America/Sao_Paulo
BEGIN:STANDARD
TZOFFSETFROM:-0300
TZOFFSETTO:-0300
TZNAME:-03
DTSTART:20230101T000000
END:STANDARD
END:VTIMEZONE
BEGIN:VEVENT
DTSTART;TZID=America/Sao_Paulo:20240904T120000
DTEND;TZID=America/Sao_Paulo:20240904T130000
DTSTAMP:20260420T204046
CREATED:20240913T122145Z
LAST-MODIFIED:20240913T122145Z
UID:3307-1725451200-1725454800@city-ihl.ca
SUMMARY:Online Open Day at City Institute of Higher Learning
DESCRIPTION:We’re excited to invite you to our Virtual Open Day! \nDiscover what the City Institute of Higher Learning offers at our exclusive online event! It’s the perfect opportunity to: \n• Explore our programs \n• Meet our team \n• Ask all your questions \nDate: September 4\, 2023 \nTime: 12:00 PM \nDuration: 45 minutes \nGoogle Meet Link: https://meet.google.com/otv-spxw-sgo    \nWe look forward to meeting you virtually and showing you what makes our institute special! \n  \nNous avons le plaisir de vous inviter à notre Journée Portes Ouvertes en ligne ! \nDécouvrez ce que le City Institute of Higher Learning a à offrir lors de notre événement virtuel exclusif ! C’est l’occasion idéale de : \n•  Explorer nos programmes \n• Rencontrer notre équipe \n• Poser toutes vos questions \nDate : 4 septembre 2023 \nHeure : 12h00 \nDurée : 45 minutes \nLien Google Meet : https://meet.google.com/otv-spxw-sgo   \nNous avons hâte de vous rencontrer virtuellement !
URL:https://city-ihl.ca/event/online-open-day-at-city-institute-of-higher-learning-2/
LOCATION:City Institute of Higher Learning\, 381 St George Street\, Moncton\, New Brunswick\, E1C 1X3\, Canada
CATEGORIES:Virtual open Day
ATTACH;FMTTYPE=image/webp:https://city-ihl.ca/wp-content/uploads/2024/09/Online-Open-Day-at-City-Institute-of-Higher-Learning.webp
END:VEVENT
END:VCALENDAR