BEGIN:VCALENDAR
VERSION:2.0
PRODID:-//City Institute of Higher Learning (C-IHL) - ECPv6.15.17//NONSGML v1.0//EN
CALSCALE:GREGORIAN
METHOD:PUBLISH
X-WR-CALNAME:City Institute of Higher Learning (C-IHL)
X-ORIGINAL-URL:https://city-ihl.ca
X-WR-CALDESC:Events for City Institute of Higher Learning (C-IHL)
REFRESH-INTERVAL;VALUE=DURATION:PT1H
X-Robots-Tag:noindex
X-PUBLISHED-TTL:PT1H
BEGIN:VTIMEZONE
TZID:America/Sao_Paulo
BEGIN:STANDARD
TZOFFSETFROM:-0300
TZOFFSETTO:-0300
TZNAME:-03
DTSTART:20230101T000000
END:STANDARD
END:VTIMEZONE
BEGIN:VTIMEZONE
TZID:Europe/Moscow
BEGIN:STANDARD
TZOFFSETFROM:+0300
TZOFFSETTO:+0300
TZNAME:MSK
DTSTART:20230101T000000
END:STANDARD
END:VTIMEZONE
BEGIN:VEVENT
DTSTART;TZID=America/Sao_Paulo:20241212T180000
DTEND;TZID=America/Sao_Paulo:20241212T190000
DTSTAMP:20260421T070025
CREATED:20241203T161429Z
LAST-MODIFIED:20241203T161429Z
UID:4151-1734026400-1734030000@city-ihl.ca
SUMMARY:Session d’Information en Collaboration avec AIAC-NB
DESCRIPTION:Vous souhaitez en savoir plus sur nos programmes académiques et les opportunités qu’ils offrent ?\nRejoignez-nous pour une session d’information spéciale\, organisée en collaboration avec l’Association Initiatives Afro-Canadiennes du Nouveau-Brunswick (AIAC- NB).\nPourquoi participer ?\n✅ Découvrez nos diplômes et certifications adaptés aux besoins actuels.\n✅ Posez vos questions et échangez directement avec nos experts.\n✅ Explorez comment nos formations peuvent booster votre carrière. \nDate: 12 Décembre\nHeure: 18h00 -19h00\nLieu: meet.google.com/mun-wxbs-eib \nNe manquez pas cette occasion unique de découvrir des programmes conçus pour vous !
URL:https://city-ihl.ca/event/session-dinformation-en-collaboration-avec-aiac-nb-2/
LOCATION:Association Initiatives Afro-Canadiennes du Nouveau Brunswick (AIAC-NB)
CATEGORIES:Information Session
END:VEVENT
BEGIN:VEVENT
DTSTART;TZID=America/Sao_Paulo:20241209T120000
DTEND;TZID=America/Sao_Paulo:20241209T130000
DTSTAMP:20260421T070025
CREATED:20241203T160547Z
LAST-MODIFIED:20241203T160706Z
UID:4145-1733745600-1733749200@city-ihl.ca
SUMMARY:Session d’Information en Collaboration avec AIAC-NB
DESCRIPTION:Vous souhaitez en savoir plus sur nos programmes académiques et les opportunités qu’ils offrent ?\nRejoignez-nous pour une session d’information spéciale\, organisée en collaboration avec l’Association Initiatives Afro-Canadiennes du Nouveau-Brunswick (AIAC- NB).\nPourquoi participer ?\n✅ Découvrez nos diplômes et certifications adaptés aux besoins actuels.\n✅ Posez vos questions et échangez directement avec nos experts.\n✅ Explorez comment nos formations peuvent booster votre carrière. \nDate: 9 Décembre\nHeure: 12h00 -13h00\nLieu: meet.google.com/yut-qnwb-pes \nNe manquez pas cette occasion unique de découvrir des programmes conçus pour vous ! \n  \n  \n 
URL:https://city-ihl.ca/event/session-dinformation-en-collaboration-avec-aiac-nb/
LOCATION:Association Initiatives Afro-Canadiennes du Nouveau Brunswick (AIAC-NB)
CATEGORIES:Information Session
END:VEVENT
BEGIN:VEVENT
DTSTART;TZID=America/Sao_Paulo:20241120T123000
DTEND;TZID=America/Sao_Paulo:20241120T133000
DTSTAMP:20260421T070025
CREATED:20241120T160048Z
LAST-MODIFIED:20241120T160048Z
UID:3949-1732105800-1732109400@city-ihl.ca
SUMMARY:Rejoignez-nous pour une session d’information spéciale chez MAGMA le 20 novembre !
DESCRIPTION:Vous voulez en savoir plus sur les programmes académiques offerts par City Institute of Higher Learning ? Rejoignez-nous pour une session d’information spéciale chez MAGMA le 20 novembre ! \n\n\nDécouvrez nos diplômes et formations\, les opportunités de bourses\, et comment nos programmes peuvent vous aider à réaliser vos objectifs académiques et professionnels.\n\n\n Lieu : MAGMA\n Date : 20 novembre\n Heure : 12h30 /13h30\n\n\nC’est l’occasion parfaite pour poser toutes vos questions et rencontrer notre équipe. Ne manquez pas cette opportunité d’explorer les options qui s’offrent à vous !
URL:https://city-ihl.ca/event/rejoignez-nous-pour-une-session-dinformation-speciale-chez-magma-le-20-novembre/
LOCATION:MAGMA\, 22 Church Street\, Moncton\, New Brunswick\, E1C 1X3\, Canada
CATEGORIES:Information Session
ATTACH;FMTTYPE=image/jpeg:https://city-ihl.ca/wp-content/uploads/2024/11/Information-Session-at-MAGMA.jpg
ORGANIZER;CN="MAGMA":MAILTO:meghan.toups@magma-amgm.org
END:VEVENT
BEGIN:VEVENT
DTSTART;TZID=America/Sao_Paulo:20241102T150000
DTEND;TZID=America/Sao_Paulo:20241102T170000
DTSTAMP:20260421T070025
CREATED:20241101T160334Z
LAST-MODIFIED:20241101T160556Z
UID:3907-1730559600-1730566800@city-ihl.ca
SUMMARY:Information Session at Les plumes Godjoloume INC | Séance d'information chez Les plumes Godjoloume INC
DESCRIPTION:Découvrez l’Institut City-IHL lors de notre Journée Portes Ouvertes\, en partenariat avec Les Plumes Godjoloume INC. Fatoumata Guindo! \nRejoignez-nous pour une aventure éducative où l’apprentissage devient un plaisir sans fin ! Explorez notre campus\, rencontrez notre équipe mondiale dédiée\, et découvrez nos programmes innovants\, conçus pour former les leaders de demain. 🌍 \n📅 Date : Samedi 2 novembre 2024\n🕒 Heure : 15h – 17h\n📍 Lieu : 1133 Saint Georges Boulevard\, Moncton\, NB E1E 4E1 \nPourquoi Participer ? \nÉchangez avec un expert en éducation sur le pouvoir de l’apprentissage tout au long de la vie.\nDécouvrez comment nos programmes enrichissent les compétences en recherche et en gestion.\nExplorez des opportunités de collaboration avec une institution qui valorise l’innovation et la diversité\, en partenariat avec Les Plumes Godjoloume INC. \nNous vous attendons nombreux pour partager cette expérience enrichissante et inspirante !\nDiscover City-IHL at our Open Day in partnership with Les Plumes Godjoloume INC. Fatoumata Guindo! \n\nJoin us for an educational adventure where learning becomes an endless pleasure! Explore our campus\, meet our dedicated global team\, and dive into our innovative programs designed to shape tomorrow’s leaders. 🌍 \n📅 Date: Saturday\, November 2\, 2024\n🕒 Time: 3 PM – 5 PM\n📍 Location: 1133 Saint Georges Boulevard\, Moncton\, NB E1E 4E1 \nWhy Attend? \nConnect with an education expert to discuss the power of lifelong learning.\nDiscover how our programs enhance research and management skills.\nExplore collaboration opportunities with an institution that values innovation and diversity\, thanks to our partnership with Les Plumes Godjoloume INC. \nJoin us for an enriching and inspiring experience. We can’t wait to welcome you! \n  \n 
URL:https://city-ihl.ca/event/information-session-at-les-plumes-godjoloume-inc-seance-dinformation-chez-les-plumes-godjoloume-inc/
LOCATION:Les Plumes Godjoloume INC.\, 1133 Saint Georges Boulevard\, Moncton\, New Brunswick\, E1E 4E1\, Canada
CATEGORIES:Information Session
ATTACH;FMTTYPE=image/jpeg:https://city-ihl.ca/wp-content/uploads/2024/11/Information-Session-at-Les-plumes-Godjoloume-INC.jpg
END:VEVENT
BEGIN:VEVENT
DTSTART;TZID=Europe/Moscow:20240902T173000
DTEND;TZID=Europe/Moscow:20240902T183000
DTSTAMP:20260421T070025
CREATED:20240805T194140Z
LAST-MODIFIED:20240805T202815Z
UID:1912-1725298200-1725301800@city-ihl.ca
SUMMARY:Information Session
DESCRIPTION:Come and Meet our Staff and Discover our Exciting New Courses\, Research\, and Scholarship Opportunities. If You Cannot Make it in Person\, Email admin@city-ihl.ca to Arrange a Call. \n  \n \n  \nCome and Meet our Staff and Discover our Exciting New Courses\, Research\, and Scholarship Opportunities. If You Cannot Make it in Person\, Email admin@city-ihl.ca to Arrange a Call. Come and Meet our Staff and Discover our Exciting New Courses\, Research\, and Scholarship Opportunities. If You Cannot Make it in Person\, Email admin@city-ihl.ca to Arrange a Call. \nCome and Meet our Staff and Discover our Exciting New Courses\, Research\, and Scholarship Opportunities. If You Cannot Make it in Person\, Email admin@city-ihl.ca to Arrange a Call. \n  \n \n 
URL:https://city-ihl.ca/event/information-session/
LOCATION:City Institute of Higher Learning\, 381 St George Street\, Moncton\, New Brunswick\, E1C 1X3\, Canada
CATEGORIES:Information Session
ATTACH;FMTTYPE=image/png:https://city-ihl.ca/wp-content/uploads/2024/08/Open-Day.png
END:VEVENT
BEGIN:VEVENT
DTSTART;TZID=America/Sao_Paulo:20240613T110000
DTEND;TZID=America/Sao_Paulo:20240613T170000
DTSTAMP:20260421T070025
CREATED:20240913T120847Z
LAST-MODIFIED:20240913T120847Z
UID:3297-1718276400-1718298000@city-ihl.ca
SUMMARY:Information Session
DESCRIPTION:Find out about our novel courses and meet our instructors and consultants to discover what new opportunities City Institute of Higher Learning bring to New Brunswick and globally. Be part of a new story.
URL:https://city-ihl.ca/event/information-session-3/
LOCATION:City Institute of Higher Learning\, 381 St George Street\, Moncton\, New Brunswick\, E1C 1X3\, Canada
CATEGORIES:Information Session
END:VEVENT
BEGIN:VEVENT
DTSTART;TZID=America/Sao_Paulo:20240601T100000
DTEND;TZID=America/Sao_Paulo:20240601T140000
DTSTAMP:20260421T070025
CREATED:20240913T120639Z
LAST-MODIFIED:20260214T170307Z
UID:3295-1717236000-1717250400@city-ihl.ca
SUMMARY:Information Session
DESCRIPTION:We are running an information session on-site at our City Campus in Moncton City Centre and online via Google Meet. Just Click on the link to join between 10 a.m. and 4.30 p.m. BE PART of this exciting new Institute. \nFind out about our novel courses and meet our instructors and consultants to discover what new opportunities City Institute of Higher Learning brings to New Brunswick and globally. Be part of a new story. \n 
URL:https://city-ihl.ca/event/information-session-2/
LOCATION:City Institute of Higher Learning\, 381 St George Street\, Moncton\, New Brunswick\, E1C 1X3\, Canada
CATEGORIES:Information Session
END:VEVENT
END:VCALENDAR