BEGIN:VCALENDAR
VERSION:2.0
PRODID:-//City Institute of Higher Learning (C-IHL) - ECPv6.15.17//NONSGML v1.0//EN
CALSCALE:GREGORIAN
METHOD:PUBLISH
X-ORIGINAL-URL:https://city-ihl.ca
X-WR-CALDESC:Events for City Institute of Higher Learning (C-IHL)
REFRESH-INTERVAL;VALUE=DURATION:PT1H
X-Robots-Tag:noindex
X-PUBLISHED-TTL:PT1H
BEGIN:VTIMEZONE
TZID:America/Sao_Paulo
BEGIN:STANDARD
TZOFFSETFROM:-0300
TZOFFSETTO:-0300
TZNAME:-03
DTSTART:20250101T000000
END:STANDARD
END:VTIMEZONE
BEGIN:VEVENT
DTSTART;TZID=America/Sao_Paulo:20260618T100000
DTEND;TZID=America/Sao_Paulo:20260703T170000
DTSTAMP:20260421T083748
CREATED:20260318T082001Z
LAST-MODIFIED:20260320T200509Z
UID:6888-1781776800-1783098000@city-ihl.ca
SUMMARY:Leadership and  Conflict Resolution Workshop in Atlantic Canada 2026
DESCRIPTION:The Leadership and Conflict Resolution Workshop in Atlantic Canada 2026 is a two-week training program that builds strong leadership and conflict resolution skills. It starts on June 18\, 2026\, in Moncton\, New Brunswick. Participants can join either online or attend in person\, which makes the program accessible to a wider audience. \nThe Leadership and Conflict Resolution Workshop in Atlantic Canada  helps participants develop practical skills for real-life situations. First\, it focuses on leadership growth through emotional intelligence and clear communication. In addition\, it introduces professional counseling techniques and psychosocial support methods. As a result\, participants learn how to handle sensitive situations with confidence. The training also includes trauma-informed approaches\, which are essential in modern workplaces and communities. \nMoreover\, the workshop helps participants understand how to manage conflicts in a structured and professional way. They learn how to reduce tension\, improve teamwork\, and build stronger relationships. At the same time\, the program introduces basic program development skills. Because of this\, participants can design simple initiatives that support growth in their organizations or communities. \nThis workshop is ideal for professionals\, students\, educators\, and NGO workers. It is also suitable for anyone who wants to improve leadership and communication skills. Whether you join online or in person\, you will benefit from a diverse and interactive learning environment. \nBy the end of the program\, participants will feel more confident in their leadership roles. They will also gain practical tools to resolve conflicts effectively. Therefore\, The Leadership and Conflict Resolution Workshop in Atlantic Canada offers a valuable opportunity for personal and professional growth. \nFor more information\, visit the official website: https://city-ihl.ca. To secure your spot\, complete your registration here: \n \nRegister Now
URL:https://city-ihl.ca/event/leadership-conflict-resolution-atlantic-canada-2026/
LOCATION:Moncton\, New Brunswick\, Canada
CATEGORIES:Conference
ATTACH;FMTTYPE=image/jpeg:https://city-ihl.ca/wp-content/uploads/2026/03/WhatsApp-Image-2026-03-17-at-5.56.22-PM.jpeg
END:VEVENT
BEGIN:VEVENT
DTSTART;TZID=America/Sao_Paulo:20260910T080000
DTEND;TZID=America/Sao_Paulo:20260911T170000
DTSTAMP:20260421T083748
CREATED:20260122T114716Z
LAST-MODIFIED:20260122T160144Z
UID:6524-1789027200-1789146000@city-ihl.ca
SUMMARY:3rd Conference on Economic Growth | Atlantic Canada 2026
DESCRIPTION:Join us at the 3rd Conference on Economic Growth | Atlantic Canada 2026\, taking place in Riverview\, New Brunswick\, on September 10–11\, 2026. This event will explore vital topics such as innovation hubs\, fostering entrepreneurship\, and strengthening global cooperation. \nThe Conference will bring together industry leaders\, policymakers\, and entrepreneurs to discuss strategies for fostering economic growth in the region. With a focus on innovation and global collaboration\, it will provide insights into creating sustainable economic ecosystems and enhancing the region’s global competitiveness. \nAdditionally\, the conference will feature a diverse range of sessions\, including keynote speeches\, panel discussions\, and hands-on workshops. These sessions are designed to help attendees gain a deeper understanding of how innovation hubs can fuel economic growth and how entrepreneurship can drive long-term success. \nCheck out the highlights from our previous conference to see what you can expect at this year’s event. You can look forward to similar impactful sessions\, alongside exciting new developments. \nFor more information on economic growth in the region\, read this recent study on Atlantic Canada’s growth. It offers a comprehensive overview of strategies that align with the themes of this year’s conference and further enhances the discussion around the region’s future. \nBy attending\, participants will have the chance to network with fellow innovators\, entrepreneurs\, and experts. Furthermore\, you’ll have the opportunity to gain practical knowledge on driving economic growth and fostering stronger global partnerships. \nDon’t miss out on this opportunity to be part of a transformative event! Register now and secure your spot at the 3rd Conference on Economic Growth | Atlantic Canada 2026. We look forward to seeing you in Riverview\, New Brunswick! \n \nRegister Now
URL:https://city-ihl.ca/event/3rd-conference-on-economic-growth-in-atlantic-canada/
LOCATION:Riverview\, New Brunswick\, Canada\, Riverview\, New Brunswick\, Canada\, Riverview\, New Brunswick\, Canada
CATEGORIES:Conference
ATTACH;FMTTYPE=image/webp:https://city-ihl.ca/wp-content/uploads/2026/01/20260122_1351_Image-Generation_remix_01kfjw1h91ef0r6gns29bx7txx.webp
END:VEVENT
END:VCALENDAR