BEGIN:VCALENDAR
VERSION:2.0
PRODID:-//City Institute of Higher Learning (C-IHL) - ECPv6.15.17//NONSGML v1.0//EN
CALSCALE:GREGORIAN
METHOD:PUBLISH
X-WR-CALNAME:City Institute of Higher Learning (C-IHL)
X-ORIGINAL-URL:https://city-ihl.ca
X-WR-CALDESC:Events for City Institute of Higher Learning (C-IHL)
REFRESH-INTERVAL;VALUE=DURATION:PT1H
X-Robots-Tag:noindex
X-PUBLISHED-TTL:PT1H
BEGIN:VTIMEZONE
TZID:America/Sao_Paulo
BEGIN:STANDARD
TZOFFSETFROM:-0300
TZOFFSETTO:-0300
TZNAME:-03
DTSTART:20250101T000000
END:STANDARD
END:VTIMEZONE
BEGIN:VEVENT
DTSTART;TZID=America/Sao_Paulo:20260126T090000
DTEND;TZID=America/Sao_Paulo:20260126T170000
DTSTAMP:20260421T152202
CREATED:20260318T161912Z
LAST-MODIFIED:20260318T161912Z
UID:6917-1769418000-1769446800@city-ihl.ca
SUMMARY:Internationalisation Opportunities Seminar – City Research Series 2026
DESCRIPTION:The Internationalisation Opportunities Seminar is a key event in the City Research Series hosted by the City Institute of Higher Learning. This session explores how emerging countries can unlock global opportunities in the digital era. It provides valuable insight into economic growth and digital transformation. Moreover\, it highlights practical strategies for navigating international markets. \nThe seminar will take place on January 26\, 2026. It will be held online\, making it accessible to a global audience. The session starts at 1:00 PM UK time and 9:00 AM Atlantic time. Therefore\, participants from different regions can join conveniently. The theme focuses on advancing economic fortunes in the digital era. In addition\, it connects technology with global business expansion. \nThe event features Professor Mahfuzur Rahman from the University of Lincoln\, UK. He brings strong academic experience and international perspective. As a result\, attendees will gain deep understanding of internationalisation strategies. Furthermore\, his expertise will help participants understand challenges in emerging markets. His session will also explore how digital tools enable cross-border growth. \nThis Internationalisation Opportunities Seminar is ideal for students\, researchers\, and business professionals. It offers a platform for learning and engagement. Moreover\, it encourages participants to think globally and act strategically. You can learn more about the organizer by visiting https://www.city-ihl.ca. For further inquiries\, contact +1 (506) 388-2833 or email admin@city-ihl.ca. \nOverall\, this seminar delivers practical knowledge and global insight. It connects research with real-world application. Therefore\, attending this event can help you better understand international opportunities in today’s digital economy.
URL:https://city-ihl.ca/event/internationalisation-opportunities-seminar-city-research-series/
LOCATION:Moncton\, New Brunswick\, Canada
CATEGORIES:CITY RESEARCH SERIES,Conference
ATTACH;FMTTYPE=image/jpeg:https://city-ihl.ca/wp-content/uploads/2026/03/WhatsApp-Image-2026-03-18-at-11.38A.27-AM.jpeg
END:VEVENT
BEGIN:VEVENT
DTSTART;TZID=America/Sao_Paulo:20260126T090000
DTEND;TZID=America/Sao_Paulo:20260126T170000
DTSTAMP:20260421T152202
CREATED:20260318T162347Z
LAST-MODIFIED:20260318T162347Z
UID:6920-1769418000-1769446800@city-ihl.ca
SUMMARY:English Universities Impact Seminar – City Research Series Event
DESCRIPTION:The English Universities Impact Seminar is a featured session in the City Research Series organized by the City Institute of Higher Learning. This event explores the evolving role of English universities in shaping academic identities. It also examines their influence on wellbeing within academic environments. Moreover\, the seminar addresses whether certain institutional structures have become redundant in today’s context. \nThe topic\, “Redundant? The Case of English Universities\,” invites critical discussion. It focuses on understanding how higher education systems affect both individuals and institutions. In addition\, the session explores the psychological and professional impact on academics. Therefore\, participants will gain a deeper perspective on modern academic life. The discussion also highlights challenges related to identity\, purpose\, and institutional change. \nThe seminar will be delivered by Professor Maria Kordowicz. She is a Professor in Organisational Psychology and Director of Psychology and Research at Regent’s University London. Her expertise provides valuable insight into the intersection of psychology and academia. As a result\, attendees can expect a thoughtful and research-driven presentation. Furthermore\, her work sheds light on wellbeing in professional and academic settings. \nThis English Universities Impact Seminar is ideal for students\, researchers\, and education professionals. It creates an opportunity to reflect on higher education systems. Moreover\, it encourages meaningful engagement with current academic issues. For more information\, visit the official website: https://www.city-ihl.ca. You can also contact the organizers via email at admin@city-ihl.ca or call +1 (506) 388-2833. \nOverall\, this seminar offers a unique perspective on academic structures and their impact. It connects theory with real-world academic experiences. Therefore\, attending this event will help broaden your understanding of identity and wellbeing in higher education.
URL:https://city-ihl.ca/event/english-universities-impact-seminar-city-research-series/
LOCATION:Moncton\, New Brunswick\, Canada
CATEGORIES:CITY RESEARCH SERIES,Conference
ATTACH;FMTTYPE=image/jpeg:https://city-ihl.ca/wp-content/uploads/2026/03/WhatsApp-Image-2026-03-18-at-11.38.27-AAM.jpeg
END:VEVENT
END:VCALENDAR